View In:
ArcGIS JavaScript
ArcGIS Online Map Viewer
ArcGIS Earth
ArcMap
ArcGIS Pro
View Footprint In:
ArcGIS Online Map Viewer
Service Description: This dataset, produced by the PAMAP Program, consists of a JPEG2000-compressed orthorectified digital raster image (i.e. orthoimage) with a horizontal ground resolution of 1 foot. An orthoimage is a remotely sensed image that has been positionally corrected for camera lens distortion, vertical displacement, and variations in aircraft altitude and orientation. Orthoimagery combines the image characteristics of a photograph with the geometric qualities of a map. Source images were captured in natural color at a negative scale of 1:19200. PAMAP data are organized into blocks, which do not have gaps or overlaps, that represent 10,000 feet by 10,000 feet on the ground. The coordinate system for blocks in the northern half of the state is Pennsylvania State Plane North (datum:NAD83, units: feet); blocks in the southern half of the state are in Pennsylvania State Plane South. A block name is formed by concatenating the first four digits of the State Plane northing and easting defining the block's northwest corner, the State identifier "PA", and the State Plane zone designator "N" or "S" (e.g. 45001210PAS).
Map Name: Layers
Legend
All Layers and Tables
Dynamic Legend
Dynamic All Layers
Layers:
Description: This dataset, produced by the PAMAP Program, consists of a JPEG2000-compressed orthorectified digital raster image (i.e. orthoimage) with a horizontal ground resolution of 1 foot. An orthoimage is a remotely sensed image that has been positionally corrected for camera lens distortion, vertical displacement, and variations in aircraft altitude and orientation. Orthoimagery combines the image characteristics of a photograph with the geometric qualities of a map. Source images were captured in natural color at a negative scale of 1:19200. PAMAP data are organized into blocks, which do not have gaps or overlaps, that represent 10,000 feet by 10,000 feet on the ground. The coordinate system for blocks in the northern half of the state is Pennsylvania State Plane North (datum:NAD83, units: feet); blocks in the southern half of the state are in Pennsylvania State Plane South. A block name is formed by concatenating the first four digits of the State Plane northing and easting defining the block's northwest corner, the State identifier "PA", and the State Plane zone designator "N" or "S" (e.g. 45001210PAS).
Copyright Text:
Spatial Reference:
102100
(3857)
Single Fused Map Cache: true
Tile Info:
- Height: 256
- Width: 256
- DPI: 96
-
Levels of Detail: 20
-
Level ID: 1
[ Start Tile, End Tile ]
- Resolution: 78271.5169639999
- Scale: 2.95828763795777E8
-
Level ID: 2
[ Start Tile, End Tile ]
- Resolution: 39135.7584820001
- Scale: 1.47914381897889E8
-
Level ID: 3
[ Start Tile, End Tile ]
- Resolution: 19567.8792409999
- Scale: 7.3957190948944E7
-
Level ID: 4
[ Start Tile, End Tile ]
- Resolution: 9783.93962049996
- Scale: 3.6978595474472E7
-
Level ID: 5
[ Start Tile, End Tile ]
- Resolution: 4891.96981024998
- Scale: 1.8489297737236E7
- Format: MIXED
- Compression Quality: 75.0
- Origin: X: -2.0037508342787E7
Y: 2.0037508342787E7
- Spatial Reference: 102100
(3857)
Initial Extent:
XMin: -8526372.893526386
YMin: 5002951.865727997
XMax: -8331700.038723894
YMax: 5115844.541957862
Spatial Reference: 102100
Full Extent:
XMin: -8444311.507464549
YMin: 5031692.030119273
XMax: -8393750.411960714
YMax: 5110247.328208526
Spatial Reference: 102100
Units: esriMeters
Supported Image Format Types: PNG32,PNG24,PNG,JPG,DIB,TIFF,EMF,PS,PDF,GIF,SVG,SVGZ,BMP
Document Info:
Title: Services.aprx
Author:
Comments: This dataset, produced by the PAMAP Program, consists of a JPEG2000-compressed orthorectified digital raster image (i.e. orthoimage) with a horizontal ground resolution of 1 foot. An orthoimage is a remotely sensed image that has been positionally corrected for camera lens distortion, vertical displacement, and variations in aircraft altitude and orientation. Orthoimagery combines the image characteristics of a photograph with the geometric qualities of a map. Source images were captured in natural color at a negative scale of 1:19200. PAMAP data are organized into blocks, which do not have gaps or overlaps, that represent 10,000 feet by 10,000 feet on the ground. The coordinate system for blocks in the northern half of the state is Pennsylvania State Plane North (datum:NAD83, units: feet); blocks in the southern half of the state are in Pennsylvania State Plane South. A block name is formed by concatenating the first four digits of the State Plane northing and easting defining the block's northwest corner, the State identifier "PA", and the State Plane zone designator "N" or "S" (e.g. 45001210PAS).
Subject: Aerial survey of the Commonwealth of Pennsylvania. Orthoimages serve a variety of purposes-- from interim maps to field references for earth science investigations and analysis. The digital orthoimage is a useful layer in a geographic information sy
Category:
Keywords: Ortho Imagery
AntialiasingMode: None
TextAntialiasingMode: Force
Supports Dynamic Layers: true
MaxRecordCount: 1000
MaxImageHeight: 4096
MaxImageWidth: 4096
Supported Query Formats: JSON, geoJSON, PBF
Min Scale: 577790.554289
Max Scale: 4513.988705
Supports Datum Transformation: true
Child Resources:
Info
Dynamic Layer
Supported Operations:
Export Map
Identify
QueryDomains
QueryLegends
Find
Return Updates
Generate KML