{
 "currentVersion": 10.71,
 "cimVersion": "2.4.0",
 "serviceDescription": "This dataset, produced by the PAMAP Program, consists of a JPEG2000-compressed orthorectified digital raster image (i.e. orthoimage) with a horizontal ground resolution of 1 foot. An orthoimage is a remotely sensed image that has been positionally corrected for camera lens distortion, vertical displacement, and variations in aircraft altitude and orientation. Orthoimagery combines the image characteristics of a photograph with the geometric qualities of a map. Source images were captured in natural color at a negative scale of 1:19200. PAMAP data are organized into blocks, which do not have gaps or overlaps, that represent 10,000 feet by 10,000 feet on the ground. The coordinate system for blocks in the northern half of the state is Pennsylvania State Plane North (datum:NAD83, units: feet); blocks in the southern half of the state are in Pennsylvania State Plane South. A block name is formed by concatenating the first four digits of the State Plane northing and easting defining the block's northwest corner, the State identifier \"PA\", and the State Plane zone designator \"N\" or \"S\" (e.g. 45001210PAS).",
 "mapName": "Layers",
 "description": "This dataset, produced by the PAMAP Program, consists of a JPEG2000-compressed orthorectified digital raster image (i.e. orthoimage) with a horizontal ground resolution of 1 foot. An orthoimage is a remotely sensed image that has been positionally corrected for camera lens distortion, vertical displacement, and variations in aircraft altitude and orientation. Orthoimagery combines the image characteristics of a photograph with the geometric qualities of a map. Source images were captured in natural color at a negative scale of 1:19200. PAMAP data are organized into blocks, which do not have gaps or overlaps, that represent 10,000 feet by 10,000 feet on the ground. The coordinate system for blocks in the northern half of the state is Pennsylvania State Plane North (datum:NAD83, units: feet); blocks in the southern half of the state are in Pennsylvania State Plane South. A block name is formed by concatenating the first four digits of the State Plane northing and easting defining the block's northwest corner, the State identifier \"PA\", and the State Plane zone designator \"N\" or \"S\" (e.g. 45001210PAS).",
 "copyrightText": "",
 "supportsDynamicLayers": true,
 "layers": [
  {
   "id": 0,
   "name": "lackawanna.jp2",
   "parentLayerId": -1,
   "defaultVisibility": true,
   "subLayerIds": null,
   "minScale": 0,
   "maxScale": 0,
   "type": "Raster Layer",
   "supportsDynamicLegends": false
  }
 ],
 "tables": [],
 "spatialReference": {
  "wkid": 102100,
  "latestWkid": 3857,
  "xyTolerance": 0.001,
  "zTolerance": 0.001,
  "mTolerance": 0.001,
  "falseX": -20037700,
  "falseY": -30241100,
  "xyUnits": 10000,
  "falseZ": -100000,
  "zUnits": 10000,
  "falseM": -100000,
  "mUnits": 10000
 },
 "singleFusedMapCache": true,
 "tileInfo": {
  "rows": 256,
  "cols": 256,
  "dpi": 96,
  "format": "MIXED",
  "compressionQuality": 75,
  "origin": {
   "x": -2.0037508342787E7,
   "y": 2.0037508342787E7
  },
  "spatialReference": {
   "wkid": 102100,
   "latestWkid": 3857,
   "xyTolerance": 0.001,
   "zTolerance": 0.001,
   "mTolerance": 0.001,
   "falseX": -20037700,
   "falseY": -30241100,
   "xyUnits": 1.4892314192838538E8,
   "falseZ": -100000,
   "zUnits": 10000,
   "falseM": -100000,
   "mUnits": 10000
  },
  "lods": [
   {
    "level": 0,
    "resolution": 156543.033928,
    "scale": 5.91657527591555E8
   },
   {
    "level": 1,
    "resolution": 78271.5169639999,
    "scale": 2.95828763795777E8
   },
   {
    "level": 2,
    "resolution": 39135.7584820001,
    "scale": 1.47914381897889E8
   },
   {
    "level": 3,
    "resolution": 19567.8792409999,
    "scale": 7.3957190948944E7
   },
   {
    "level": 4,
    "resolution": 9783.93962049996,
    "scale": 3.6978595474472E7
   },
   {
    "level": 5,
    "resolution": 4891.96981024998,
    "scale": 1.8489297737236E7
   },
   {
    "level": 6,
    "resolution": 2445.98490512499,
    "scale": 9244648.868618
   },
   {
    "level": 7,
    "resolution": 1222.99245256249,
    "scale": 4622324.434309
   },
   {
    "level": 8,
    "resolution": 611.49622628138,
    "scale": 2311162.217155
   },
   {
    "level": 9,
    "resolution": 305.748113140558,
    "scale": 1155581.108577
   },
   {
    "level": 10,
    "resolution": 152.874056570411,
    "scale": 577790.554289
   },
   {
    "level": 11,
    "resolution": 76.4370282850732,
    "scale": 288895.277144
   },
   {
    "level": 12,
    "resolution": 38.2185141425366,
    "scale": 144447.638572
   },
   {
    "level": 13,
    "resolution": 19.1092570712683,
    "scale": 72223.819286
   },
   {
    "level": 14,
    "resolution": 9.55462853563415,
    "scale": 36111.909643
   },
   {
    "level": 15,
    "resolution": 4.77731426794937,
    "scale": 18055.954822
   },
   {
    "level": 16,
    "resolution": 2.38865713397468,
    "scale": 9027.977411
   },
   {
    "level": 17,
    "resolution": 1.19432856685505,
    "scale": 4513.988705
   },
   {
    "level": 18,
    "resolution": 0.597164283559817,
    "scale": 2256.994353
   },
   {
    "level": 19,
    "resolution": 0.298582141647617,
    "scale": 1128.497176
   }
  ]
 },
 "initialExtent": {
  "xmin": -8526372.893526386,
  "ymin": 5002951.865727997,
  "xmax": -8331700.038723894,
  "ymax": 5115844.541957862,
  "spatialReference": {
   "cs": "pcs",
   "wkid": 102100
  }
 },
 "fullExtent": {
  "xmin": -8444311.507464549,
  "ymin": 5031692.030119273,
  "xmax": -8393750.411960714,
  "ymax": 5110247.328208526,
  "spatialReference": {
   "cs": "pcs",
   "wkid": 102100
  }
 },
 "minScale": 577790.554289,
 "maxScale": 4513.988705,
 "units": "esriMeters",
 "supportedImageFormatTypes": "PNG32,PNG24,PNG,JPG,DIB,TIFF,EMF,PS,PDF,GIF,SVG,SVGZ,BMP",
 "documentInfo": {
  "Title": "Services.aprx",
  "Author": "",
  "Comments": "This dataset, produced by the PAMAP Program, consists of a JPEG2000-compressed orthorectified digital raster image (i.e. orthoimage) with a horizontal ground resolution of 1 foot. An orthoimage is a remotely sensed image that has been positionally corrected for camera lens distortion, vertical displacement, and variations in aircraft altitude and orientation. Orthoimagery combines the image characteristics of a photograph with the geometric qualities of a map. Source images were captured in natural color at a negative scale of 1:19200. PAMAP data are organized into blocks, which do not have gaps or overlaps, that represent 10,000 feet by 10,000 feet on the ground. The coordinate system for blocks in the northern half of the state is Pennsylvania State Plane North (datum:NAD83, units: feet); blocks in the southern half of the state are in Pennsylvania State Plane South. A block name is formed by concatenating the first four digits of the State Plane northing and easting defining the block's northwest corner, the State identifier \"PA\", and the State Plane zone designator \"N\" or \"S\" (e.g. 45001210PAS).",
  "Subject": "Aerial survey of the Commonwealth of Pennsylvania. Orthoimages serve a variety of purposes-- from interim maps to field references for earth science investigations and analysis. The digital orthoimage is a useful layer in a geographic information sy",
  "Category": "",
  "AntialiasingMode": "None",
  "TextAntialiasingMode": "Force",
  "Keywords": "Ortho Imagery"
 },
 "capabilities": "Map,Query,Data",
 "supportedQueryFormats": "JSON, geoJSON, PBF",
 "exportTilesAllowed": false,
 "supportsDatumTransformation": true,
 "archivingInfo": {
  "supportsHistoricMoment": false
 },
 "maxRecordCount": 1000,
 "maxImageHeight": 4096,
 "maxImageWidth": 4096,
 "supportedExtensions": "KmlServer"
}
