{
 "currentVersion": 10.71,
 "serviceDescription": "",
 "mapName": "Layers",
 "description": "",
 "copyrightText": "",
 "supportsDynamicLayers": true,
 "layers": [
  {
   "id": 0,
   "name": "Lackawanna_PEMA_2021.sid",
   "parentLayerId": -1,
   "defaultVisibility": true,
   "subLayerIds": null,
   "minScale": 0,
   "maxScale": 0,
   "type": "Raster Layer"
  }
 ],
 "tables": [],
 "spatialReference": {
  "wkid": 3363,
  "latestWkid": 3363
 },
 "singleFusedMapCache": true,
 "tileInfo": {
  "rows": 256,
  "cols": 256,
  "dpi": 96,
  "format": "MIXED",
  "compressionQuality": 75,
  "origin": {
   "x": -118829700,
   "y": 145008600
  },
  "spatialReference": {
   "wkid": 3363,
   "latestWkid": 3363
  },
  "lods": [
   {
    "level": 0,
    "resolution": 434.02777777777777,
    "scale": 500000
   },
   {
    "level": 1,
    "resolution": 217.01388888888889,
    "scale": 250000
   },
   {
    "level": 2,
    "resolution": 108.50694444444444,
    "scale": 125000
   },
   {
    "level": 3,
    "resolution": 55.55555555555555,
    "scale": 64000
   },
   {
    "level": 4,
    "resolution": 27.777777777777775,
    "scale": 32000
   },
   {
    "level": 5,
    "resolution": 13.888888888888888,
    "scale": 16000
   },
   {
    "level": 6,
    "resolution": 6.944444444444444,
    "scale": 8000
   },
   {
    "level": 7,
    "resolution": 3.472222222222222,
    "scale": 4000
   },
   {
    "level": 8,
    "resolution": 1.736111111111111,
    "scale": 2000
   },
   {
    "level": 9,
    "resolution": 0.8680555555555555,
    "scale": 1000
   },
   {
    "level": 10,
    "resolution": 0.43402777777777773,
    "scale": 500
   },
   {
    "level": 11,
    "resolution": 0.21701388888888887,
    "scale": 250
   },
   {
    "level": 12,
    "resolution": 0.10850694444444443,
    "scale": 125
   }
  ]
 },
 "initialExtent": {
  "xmin": 2370525.0277153645,
  "ymin": 421174.08231368184,
  "xmax": 2729474.9720980115,
  "ymax": 559500,
  "spatialReference": {
   "wkid": 3363,
   "latestWkid": 3363
  }
 },
 "fullExtent": {
  "xmin": 2489999.999906688,
  "ymin": 360000,
  "xmax": 2609999.999906688,
  "ymax": 550000,
  "spatialReference": {
   "wkid": 3363,
   "latestWkid": 3363
  }
 },
 "minScale": 125000,
 "maxScale": 500,
 "minLOD": 2,
 "maxLOD": 10,
 "units": "esriFeet",
 "supportedImageFormatTypes": "PNG32,PNG24,PNG,JPG,DIB,TIFF,EMF,PS,PDF,GIF,SVG,SVGZ,BMP",
 "documentInfo": {
  "Title": "",
  "Author": "",
  "Comments": "",
  "Subject": "",
  "Category": "",
  "AntialiasingMode": "None",
  "TextAntialiasingMode": "Force",
  "Keywords": ""
 },
 "capabilities": "Map,Query,Data",
 "supportedQueryFormats": "JSON, geoJSON",
 "exportTilesAllowed": false,
 "supportsDatumTransformation": true,
 "maxRecordCount": 1000,
 "maxImageHeight": 4096,
 "maxImageWidth": 4096,
 "supportedExtensions": "KmlServer"
}
